Workbook

Sheet 바로가기
A1: (붙임 3) '26년 3분기 무료·소액나눔 특허목록
B3: 26년 3분기 민간-공공기관 협력 미활용 특허 무료나눔 「무료·소액나눔) 특허목록
B5: 나눔유형 | C5: 공급기관 (대학·공공연) | D5: 특허건수 (건) | E5: 특허목록 (바로가기)
B6: 무료 | C6: (재)우체국금융개발원 | D6: =COUNTIF(무료나눔!$B:$B,바로가기!C6) -> 2 | E6: 무료나눔(☞클릭)
C7: 강원랜드 | D7: =COUNTIF(무료나눔!$B:$B,바로가기!C7) -> 4
C8: 한국가스기술공사 | D8: =COUNTIF(무료나눔!$B:$B,바로가기!C8) -> 115
C9: 국가철도공단 | D9: =COUNTIF(무료나눔!$B:$B,바로가기!C9) -> 23
C10: 국립공원공단 | D10: =COUNTIF(무료나눔!$B:$B,바로가기!C10) -> 6
C11: 국립낙동강생물자원관 | D11: =COUNTIF(무료나눔!$B:$B,바로가기!C11) -> 7
C12: 국립생태원 | D12: =COUNTIF(무료나눔!$B:$B,바로가기!C12) -> 8
C13: 한국교통대학교 산학협력단 | D13: =COUNTIF(무료나눔!$B:$B,바로가기!C13) -> 1
C14: 국립해양생물자원관 | D14: =COUNTIF(무료나눔!$B:$B,바로가기!C14) -> 9
C15: 국토안전관리원 | D15: =COUNTIF(무료나눔!$B:$B,바로가기!C15) -> 24
C16: 여수광양항만공사 | D16: =COUNTIF(무료나눔!$B:$B,바로가기!C16) -> 4
C17: 인천국제공항공사 | D17: =COUNTIF(무료나눔!$B:$B,바로가기!C17) -> 6
C18: 인천항만공사 | D18: =COUNTIF(무료나눔!$B:$B,바로가기!C18) -> 4
... C59: 한전kps | D59: =COUNTIF(무료나눔!$B:$B,바로가기!C59) -> 245
B60: 소액 | C60: 서울대학교병원 | D60: =COUNTIF(소액나눔!$B:$B,바로가기!C60) -> 5 | E60: 소액나눔(☞클릭)

Sheet 무료나눔
E1: 거래방식
A2: 순번 | B2: 보유기관 | C2: 기술분야 | D2: 기술명 | E2: 양도 | F2: 전용실시 | G2: 통상실시 | H2: 출원번호 | I2: 등록번호
A3: 1 | B3: (재)우체국금융개발원 | C3: 정보통신 | D3: 디지털 취약계층을 위한 맞춤형 챗봇 상담 방법 및 시스템 | E3: 부 | F3: 부 | G3: 여 | H3: 1020210164517 | I3: 1025237930000
A4: 2 | B4: (재)우체국금융개발원 | C4: 정보통신 | D4: 언어 분류에 따른 챗봇 상담 방법 및 시스템 | E4: 부 | F4: 부 | G4: 여 | H4: 1020210164531 | I4: 1025475800000
A5: 3 | B5: 강원랜드 | C5: 환경·ESG | D5: 분변토 및 유충 자동 분리장치 | E5: 부 | F5: 여 | G5: 부 | H5: 1020190140096 | I5: 1021239320000
A6: 4 | B6: 강원랜드 | C6: 환경·ESG | D6: 동애등에 유충을 이용한 음식물 처리장치 | E6: 부 | F6: 여 | G6: 부 | H6: 1020190163338 | I6: 1021732810000
A7: 5 | B7: 강원랜드 | C7: 환경·ESG | D7: 동애등에 유충 및 미생물을 이용하며 배출이 용이한 친환경 음식물 쓰레기 처리장치 | E7: 부 | F7: 여 | G7: 부 | H7: 1020210176799 | I7: 1024833070000
A8: 6 | B8: 강원랜드 | C8: 환경·ESG | D8: 동애등에 유충 및 미생물을 이용한 음식물 쓰레기 자동화 처리장치 | E8: 부 | F8: 여 | G8: 부 | H8: 1020210176856 | I8: 1025025850000
A9: 7 | B9: 한국가스기술공사 | C9: 에너지·자원 | D9: 선박용 화물운반 컨베이어 장치 | E9: 부 | F9: 부 | G9: 여 | H9: 1020180109609 | I9: 1019806160000
A10: 8 | B10: 한국가스기술공사 | C10: 기계·소재 | D10: 표시못 항타용 지그 | E10: 여 | F10: 부 | G10: 여 | H10: 1020180165848 | I10: 1022597630000
A11: 9 | B11: 한국가스기술공사 | C11: 기계·소재 | D11: 정압기 잔류가스 누출방지장치 | E11: 여 | F11: 부 | G11: 부 | H11: 2020160007310 | I11: 2004899200000
A12: 10 | B12: 한국가스기술공사 | C12: 기계·소재 | D12: 라인마크 항타용 지그 | E12: 여 | F12: 부 | G12: 부 | H12: 2020160007307 | I12: 2004859640000
A13: 11 | B13: 한국가스기술공사 | C13: 기계·소재 | D13: 적외선 감지기용 지지구조체 | E13: 여 | F13: 부 | G13: 부 | H13: 2020160007306 | I13: 2004869350000
A14: 12 | B14: 한국가스기술공사 | C14: 기계·소재 | D14: 볼트의 이물질 제거장치 | E14: 여 | F14: 부 | G14: 부 | H14: 2020160007305 | I14: 2004869340000
... A1944: 1942 | B1944: 한전kps | C1944: 기계·소재 | D1944: 제어유 압력조절용 밸브의 밸브 케이싱 오일 누설차단장치, 및 이를 구비하는 제어유 압력조절용 밸브 | E1944: 부 | F1944: 부 | G1944: 여 | H1944: 2020230000467 | I1944: 2004974670000

Sheet 소액나눔
E1: 거래방식
A2: 순번 | B2: 보유기관 | C2: 기술분야 | D2: 기술명 | E2: 양도 | F2: 전용실시 | G2: 통상실시 | H2: 기술료(VAT포함) | I2: 출원번호 | J2: 등록번호
A3: 1 | B3: 서울대학교병원 | C3: 바이오∙의료 | D3: 갑상선암 예후 예측용 바이오 마커 | E3: 여 | F3: 부 | G3: 부 | H3: 5500000 | I3: 1020190145732 | J3: 1022731710000
A4: 2 | B4: 서울대학교병원 | C4: 기계·소재 | D4: 니들 지지 구조체 및 이를 포함하는 정맥 카데터 | E4: 여 | F4: 부 | G4: 부 | H4: 5500000 | I4: 1020180136297 | J4: 1021276660000
A5: 3 | B5: 서울대학교병원 | C5: 바이오∙의료 | D5: 체세포 복제 효율 증진용 조성물 | E5: 여 | F5: 부 | G5: 부 | H5: 5500000 | I5: 1020180017472 | J5: 1021773490000
A6: 4 | B6: 서울대학교병원 | C6: 바이오∙의료 | D6: 인간 세포의 줄기세포능을 증대시키는 방법 | E6: 여 | F6: 부 | G6: 부 | H6: 5500000 | I6: 1020140082828 | J6: 1016321080000
A7: 5 | B7: 서울대학교병원 | C7: 바이오∙의료 | D7: 비침습적 사구체질환 감별진단용 바이오마커 및 이의 용도 | E7: 여 | F7: 부 | G7: 부 | H7: 5500000 | I7: 1020160183417 | J7: 1018769140000
